Package: universalmotif Version: 1.25.1 Command: /Library/Frameworks/R.framework/Resources/bin/R CMD build --keep-empty-dirs --no-resave-data universalmotif StartedAt: 2025-02-09 17:52:12 -0500 (Sun, 09 Feb 2025) EndedAt: 2025-02-09 17:53:44 -0500 (Sun, 09 Feb 2025) EllapsedTime: 92.1 seconds RetCode: 0 Status: OK PackageFile: universalmotif_1.25.1.tar.gz PackageFileSize: 3.642 MiB