Package: universalmotif Version: 1.25.1 Command: /Library/Frameworks/R.framework/Resources/bin/R CMD INSTALL universalmotif StartedAt: 2025-02-09 15:05:53 -0500 (Sun, 09 Feb 2025) EndedAt: 2025-02-09 15:06:25 -0500 (Sun, 09 Feb 2025) EllapsedTime: 32.6 seconds RetCode: 0 Status: OK