Package: universalmotif Version: 1.25.1 Command: /home/biocbuild/R/R/bin/R CMD INSTALL universalmotif StartedAt: 2025-01-29 19:39:08 -0000 (Wed, 29 Jan 2025) EndedAt: 2025-01-29 19:41:56 -0000 (Wed, 29 Jan 2025) EllapsedTime: 168.5 seconds RetCode: 0 Status: OK