Package: universalmotif Version: 1.25.1 Command: /Library/Frameworks/R.framework/Resources/bin/R CMD build --keep-empty-dirs --no-resave-data universalmotif StartedAt: 2025-02-09 18:48:02 -0500 (Sun, 09 Feb 2025) EndedAt: 2025-02-09 18:52:40 -0500 (Sun, 09 Feb 2025) EllapsedTime: 277.4 seconds RetCode: 0 Status: OK PackageFile: universalmotif_1.25.1.tar.gz PackageFileSize: 3.539 MiB