Package: universalmotif Version: 1.25.1 Command: /home/biocbuild/bbs-3.21-bioc/R/bin/R CMD build --keep-empty-dirs --no-resave-data universalmotif StartedAt: 2025-02-09 19:42:16 -0500 (Sun, 09 Feb 2025) EndedAt: 2025-02-09 19:46:18 -0500 (Sun, 09 Feb 2025) EllapsedTime: 241.3 seconds RetCode: 0 Status: OK PackageFile: universalmotif_1.25.1.tar.gz PackageFileSize: 3.537 MiB