Package: universalmotif Version: 1.25.1 Command: chmod a+r universalmotif -R && E:\biocbuild\bbs-3.21-bioc\R\bin\R.exe CMD build --keep-empty-dirs --no-resave-data universalmotif StartedAt: 2025-02-09 22:14:06 -0500 (Sun, 09 Feb 2025) EndedAt: 2025-02-09 22:20:27 -0500 (Sun, 09 Feb 2025) EllapsedTime: 381.0 seconds RetCode: 0 Status: OK PackageFile: universalmotif_1.25.1.tar.gz PackageFileSize: 3.547 MiB