Package: updateObject Version: 1.11.0 Command: /Library/Frameworks/R.framework/Resources/bin/R CMD build --keep-empty-dirs --no-resave-data updateObject StartedAt: 2025-02-09 17:52:14 -0500 (Sun, 09 Feb 2025) EndedAt: 2025-02-09 17:52:23 -0500 (Sun, 09 Feb 2025) EllapsedTime: 9.1 seconds RetCode: 0 Status: OK PackageFile: updateObject_1.11.0.tar.gz PackageFileSize: 1.289 MiB