Package: updateObject Version: 1.11.0 Command: /home/biocbuild/bbs-3.21-bioc/R/bin/R CMD check --install=check:updateObject.install-out.txt --library=/home/biocbuild/bbs-3.21-bioc/R/site-library --timings updateObject_1.11.0.tar.gz StartedAt: 2025-02-13 03:37:25 -0500 (Thu, 13 Feb 2025) EndedAt: 2025-02-13 03:38:26 -0500 (Thu, 13 Feb 2025) EllapsedTime: 61.1 seconds RetCode: 0 Status: OK CheckDir: updateObject.Rcheck Warnings: 0