Package: variancePartition Version: 1.37.2 Maintainer: Gabriel E. Hoffman MaintainerEmail: gabriel.hoffman at mssm.edu git_url: https://git.bioconductor.org/packages/variancePartition git_branch: devel git_last_commit: ccb5903 git_last_commit_date: 2025-01-07 11:43:51 -0500 (Tue, 07 Jan 2025)