Package: variancePartition Version: 1.37.2 Command: /Library/Frameworks/R.framework/Resources/bin/R CMD INSTALL variancePartition StartedAt: 2025-02-09 15:07:22 -0500 (Sun, 09 Feb 2025) EndedAt: 2025-02-09 15:07:30 -0500 (Sun, 09 Feb 2025) EllapsedTime: 7.5 seconds RetCode: 0 Status: OK