Package: variancePartition Version: 1.37.2 Command: /home/biocbuild/R/R/bin/R CMD build --keep-empty-dirs --no-resave-data variancePartition StartedAt: 2025-01-28 03:06:38 -0000 (Tue, 28 Jan 2025) EndedAt: 2025-01-28 03:22:49 -0000 (Tue, 28 Jan 2025) EllapsedTime: 971.3 seconds RetCode: 0 Status: OK PackageFile: variancePartition_1.37.2.tar.gz PackageFileSize: 4.085 MiB