Package: variancePartition Version: 1.37.2 Command: /Library/Frameworks/R.framework/Resources/bin/R CMD build --keep-empty-dirs --no-resave-data variancePartition StartedAt: 2025-02-09 18:48:33 -0500 (Sun, 09 Feb 2025) EndedAt: 2025-02-09 18:58:34 -0500 (Sun, 09 Feb 2025) EllapsedTime: 600.8 seconds RetCode: 0 Status: OK PackageFile: variancePartition_1.37.2.tar.gz PackageFileSize: 4.983 MiB