Package: variancePartition Version: 1.37.2 Command: /Library/Frameworks/R.framework/Resources/bin/R CMD check --install=check:variancePartition.install-out.txt --library=/Library/Frameworks/R.framework/Resources/library --no-vignettes --timings variancePartition_1.37.2.tar.gz StartedAt: 2025-02-10 00:18:46 -0500 (Mon, 10 Feb 2025) EndedAt: 2025-02-10 00:28:04 -0500 (Mon, 10 Feb 2025) EllapsedTime: 557.4 seconds RetCode: 0 Status: OK CheckDir: variancePartition.Rcheck Warnings: 0