Package: variancePartition Version: 1.37.2 Command: /Library/Frameworks/R.framework/Resources/bin/R CMD INSTALL variancePartition StartedAt: 2025-02-09 15:13:47 -0500 (Sun, 09 Feb 2025) EndedAt: 2025-02-09 15:14:15 -0500 (Sun, 09 Feb 2025) EllapsedTime: 28.1 seconds RetCode: 0 Status: OK