Package: variancePartition Version: 1.37.2 Command: /home/biocbuild/bbs-3.21-bioc/R/bin/R CMD build --keep-empty-dirs --no-resave-data variancePartition StartedAt: 2025-02-09 19:42:39 -0500 (Sun, 09 Feb 2025) EndedAt: 2025-02-09 19:53:02 -0500 (Sun, 09 Feb 2025) EllapsedTime: 622.5 seconds RetCode: 0 Status: OK PackageFile: variancePartition_1.37.2.tar.gz PackageFileSize: 4.718 MiB