Package: variancePartition Version: 1.37.2 Command: chmod a+r variancePartition -R && E:\biocbuild\bbs-3.21-bioc\R\bin\R.exe CMD build --keep-empty-dirs --no-resave-data variancePartition StartedAt: 2025-02-09 22:14:42 -0500 (Sun, 09 Feb 2025) EndedAt: 2025-02-09 22:28:42 -0500 (Sun, 09 Feb 2025) EllapsedTime: 840.6 seconds RetCode: 0 Status: OK PackageFile: variancePartition_1.37.2.tar.gz PackageFileSize: 3.869 MiB