Package: velociraptor Version: 1.17.0 Command: rm -rf velociraptor.buildbin-libdir && mkdir velociraptor.buildbin-libdir && /Users/biocbuild/BBS/utils/build-universal.sh velociraptor_1.17.0.tar.gz /Library/Frameworks/R.framework/Resources/bin/R velociraptor.buildbin-libdir StartedAt: 2025-02-04 22:36:23 -0500 (Tue, 04 Feb 2025) EndedAt: 2025-02-04 22:36:33 -0500 (Tue, 04 Feb 2025) EllapsedTime: 10.2 seconds RetCode: 0 Status: OK PackageFile: velociraptor_1.17.0.tgz PackageFileSize: 923.2 KiB