Package: velociraptor Version: 1.17.0 Command: /Library/Frameworks/R.framework/Resources/bin/R CMD build --keep-empty-dirs --no-resave-data velociraptor StartedAt: 2025-02-04 17:53:33 -0500 (Tue, 04 Feb 2025) EndedAt: 2025-02-04 17:54:24 -0500 (Tue, 04 Feb 2025) EllapsedTime: 51.5 seconds RetCode: 0 Status: OK PackageFile: velociraptor_1.17.0.tar.gz PackageFileSize: 861.5 KiB