Package: velociraptor Version: 1.17.0 Command: /Library/Frameworks/R.framework/Resources/bin/R CMD check --install=check:velociraptor.install-out.txt --library=/Library/Frameworks/R.framework/Resources/library --no-vignettes --timings velociraptor_1.17.0.tar.gz StartedAt: 2025-02-04 21:56:35 -0500 (Tue, 04 Feb 2025) EndedAt: 2025-02-04 21:58:27 -0500 (Tue, 04 Feb 2025) EllapsedTime: 112.4 seconds RetCode: 0 Status: WARNINGS CheckDir: velociraptor.Rcheck Warnings: 2