Package: velociraptor Version: 1.17.0 Command: /home/biocbuild/R/R/bin/R CMD build --keep-empty-dirs --no-resave-data velociraptor StartedAt: 2025-01-28 03:07:46 -0000 (Tue, 28 Jan 2025) EndedAt: 2025-01-28 03:09:00 -0000 (Tue, 28 Jan 2025) EllapsedTime: 74.0 seconds RetCode: 1 Status: ERROR PackageFile: None PackageFileSize: NA