Package: velociraptor Version: 1.17.0 Command: /Library/Frameworks/R.framework/Resources/bin/R CMD build --keep-empty-dirs --no-resave-data velociraptor StartedAt: 2025-02-09 18:49:18 -0500 (Sun, 09 Feb 2025) EndedAt: 2025-02-09 18:51:22 -0500 (Sun, 09 Feb 2025) EllapsedTime: 124.2 seconds RetCode: 0 Status: OK PackageFile: velociraptor_1.17.0.tar.gz PackageFileSize: 858.6 KiB