Package: velociraptor Version: 1.17.0 Command: /Library/Frameworks/R.framework/Resources/bin/R CMD INSTALL velociraptor StartedAt: 2025-02-09 15:39:27 -0500 (Sun, 09 Feb 2025) EndedAt: 2025-02-09 15:39:56 -0500 (Sun, 09 Feb 2025) EllapsedTime: 29.3 seconds RetCode: 0 Status: OK