Package: velociraptor Version: 1.17.0 Command: chmod a+r velociraptor -R && E:\biocbuild\bbs-3.21-bioc\R\bin\R.exe CMD build --keep-empty-dirs --no-resave-data velociraptor StartedAt: 2025-02-04 22:17:48 -0500 (Tue, 04 Feb 2025) EndedAt: 2025-02-04 22:21:00 -0500 (Tue, 04 Feb 2025) EllapsedTime: 191.3 seconds RetCode: 0 Status: OK PackageFile: velociraptor_1.17.0.tar.gz PackageFileSize: 559.2 KiB