Package: velociraptor Version: 1.17.0 Command: E:\biocbuild\bbs-3.21-bioc\R\bin\R.exe CMD check --no-multiarch --install=check:velociraptor.install-out.txt --library=E:\biocbuild\bbs-3.21-bioc\R\library --no-vignettes --timings velociraptor_1.17.0.tar.gz StartedAt: 2025-02-05 06:52:44 -0500 (Wed, 05 Feb 2025) EndedAt: 2025-02-05 06:59:11 -0500 (Wed, 05 Feb 2025) EllapsedTime: 387.1 seconds RetCode: 0 Status: WARNINGS CheckDir: velociraptor.Rcheck Warnings: 2