Package: velociraptor Version: 1.17.0 Command: E:\biocbuild\bbs-3.21-bioc\R\bin\R.exe CMD INSTALL velociraptor StartedAt: 2025-02-04 16:43:48 -0500 (Tue, 04 Feb 2025) EndedAt: 2025-02-04 16:44:22 -0500 (Tue, 04 Feb 2025) EllapsedTime: 34.1 seconds RetCode: 0 Status: OK