Package: veloviz Version: 1.13.0 Command: /home/biocbuild/R/R/bin/R CMD check --install=check:veloviz.install-out.txt --library=/home/biocbuild/R/R/site-library --no-vignettes --timings veloviz_1.13.0.tar.gz StartedAt: 2025-01-27 13:50:47 -0000 (Mon, 27 Jan 2025) EndedAt: 2025-01-27 13:52:20 -0000 (Mon, 27 Jan 2025) EllapsedTime: 93.2 seconds RetCode: 0 Status: OK CheckDir: veloviz.Rcheck Warnings: 0