Package: veloviz Version: 1.13.0 Command: /home/biocbuild/R/R/bin/R CMD INSTALL veloviz StartedAt: 2025-01-29 19:35:53 -0000 (Wed, 29 Jan 2025) EndedAt: 2025-01-29 19:36:20 -0000 (Wed, 29 Jan 2025) EllapsedTime: 26.8 seconds RetCode: 0 Status: OK