Package: veloviz Version: 1.13.0 Command: rm -rf veloviz.buildbin-libdir && mkdir veloviz.buildbin-libdir && /Users/biocbuild/BBS/utils/build-universal.sh veloviz_1.13.0.tar.gz /Library/Frameworks/R.framework/Resources/bin/R veloviz.buildbin-libdir StartedAt: 2025-02-13 01:04:14 -0500 (Thu, 13 Feb 2025) EndedAt: 2025-02-13 01:04:33 -0500 (Thu, 13 Feb 2025) EllapsedTime: 19.6 seconds RetCode: 0 Status: OK PackageFile: veloviz_1.13.0.tgz PackageFileSize: 3.669 MiB