Package: veloviz Version: 1.13.0 Command: /Library/Frameworks/R.framework/Resources/bin/R CMD build --keep-empty-dirs --no-resave-data veloviz StartedAt: 2025-02-09 18:49:18 -0500 (Sun, 09 Feb 2025) EndedAt: 2025-02-09 18:49:40 -0500 (Sun, 09 Feb 2025) EllapsedTime: 22.8 seconds RetCode: 0 Status: OK PackageFile: veloviz_1.13.0.tar.gz PackageFileSize: 3.577 MiB