Package: veloviz Version: 1.13.0 Command: /Library/Frameworks/R.framework/Resources/bin/R CMD check --install=check:veloviz.install-out.txt --library=/Library/Frameworks/R.framework/Resources/library --no-vignettes --timings veloviz_1.13.0.tar.gz StartedAt: 2025-02-10 00:19:47 -0500 (Mon, 10 Feb 2025) EndedAt: 2025-02-10 00:21:07 -0500 (Mon, 10 Feb 2025) EllapsedTime: 79.2 seconds RetCode: 0 Status: OK CheckDir: veloviz.Rcheck Warnings: 0