Package: veloviz Version: 1.13.0 Command: /home/biocbuild/bbs-3.21-bioc/R/bin/R CMD check --install=check:veloviz.install-out.txt --library=/home/biocbuild/bbs-3.21-bioc/R/site-library --timings veloviz_1.13.0.tar.gz StartedAt: 2025-02-10 03:42:44 -0500 (Mon, 10 Feb 2025) EndedAt: 2025-02-10 03:43:45 -0500 (Mon, 10 Feb 2025) EllapsedTime: 61.2 seconds RetCode: 0 Status: OK CheckDir: veloviz.Rcheck Warnings: 0