Package: veloviz Version: 1.13.0 Command: rm -rf veloviz.buildbin-libdir && mkdir veloviz.buildbin-libdir && E:\biocbuild\bbs-3.21-bioc\R\bin\R.exe CMD INSTALL --build --library=veloviz.buildbin-libdir veloviz_1.13.0.tar.gz StartedAt: 2025-02-13 09:07:09 -0500 (Thu, 13 Feb 2025) EndedAt: 2025-02-13 09:08:00 -0500 (Thu, 13 Feb 2025) EllapsedTime: 51.0 seconds RetCode: 0 Status: OK PackageFile: veloviz_1.13.0.zip PackageFileSize: 3.937 MiB