Package: veloviz Version: 1.13.0 Command: chmod a+r veloviz -R && E:\biocbuild\bbs-3.21-bioc\R\bin\R.exe CMD build --keep-empty-dirs --no-resave-data veloviz StartedAt: 2025-02-09 22:15:40 -0500 (Sun, 09 Feb 2025) EndedAt: 2025-02-09 22:16:07 -0500 (Sun, 09 Feb 2025) EllapsedTime: 27.1 seconds RetCode: 0 Status: OK PackageFile: veloviz_1.13.0.tar.gz PackageFileSize: 3.536 MiB