Package: veloviz Version: 1.13.0 Command: E:\biocbuild\bbs-3.21-bioc\R\bin\R.exe CMD check --no-multiarch --install=check:veloviz.install-out.txt --library=E:\biocbuild\bbs-3.21-bioc\R\library --no-vignettes --timings veloviz_1.13.0.tar.gz StartedAt: 2025-02-10 06:29:33 -0500 (Mon, 10 Feb 2025) EndedAt: 2025-02-10 06:31:04 -0500 (Mon, 10 Feb 2025) EllapsedTime: 91.0 seconds RetCode: 0 Status: OK CheckDir: veloviz.Rcheck Warnings: 0