Package: vidger Version: 1.27.0 Maintainer: Brandon Monier MaintainerEmail: brandon.monier at gmail.com git_url: https://git.bioconductor.org/packages/vidger git_branch: devel git_last_commit: 030cd02 git_last_commit_date: 2024-10-29 10:26:01 -0500 (Tue, 29 Oct 2024)