Package: vidger Version: 1.27.0 Command: /Library/Frameworks/R.framework/Resources/bin/R CMD build --keep-empty-dirs --no-resave-data vidger StartedAt: 2025-02-05 17:55:55 -0500 (Wed, 05 Feb 2025) EndedAt: 2025-02-05 17:56:37 -0500 (Wed, 05 Feb 2025) EllapsedTime: 42.4 seconds RetCode: 0 Status: OK PackageFile: vidger_1.27.0.tar.gz PackageFileSize: 8.715 MiB