Package: vidger Version: 1.27.0 Command: /Library/Frameworks/R.framework/Resources/bin/R CMD check --install=check:vidger.install-out.txt --library=/Library/Frameworks/R.framework/Resources/library --no-vignettes --timings vidger_1.27.0.tar.gz StartedAt: 2025-02-05 21:59:59 -0500 (Wed, 05 Feb 2025) EndedAt: 2025-02-05 22:01:31 -0500 (Wed, 05 Feb 2025) EllapsedTime: 92.1 seconds RetCode: 0 Status: OK CheckDir: vidger.Rcheck Warnings: 0