Package: vidger Version: 1.27.0 Command: /Library/Frameworks/R.framework/Resources/bin/R CMD INSTALL vidger StartedAt: 2025-02-05 15:16:03 -0500 (Wed, 05 Feb 2025) EndedAt: 2025-02-05 15:16:17 -0500 (Wed, 05 Feb 2025) EllapsedTime: 13.6 seconds RetCode: 0 Status: OK