Package: vidger Version: 1.27.0 Command: /home/biocbuild/R/R/bin/R CMD build --keep-empty-dirs --no-resave-data vidger StartedAt: 2025-01-28 03:08:21 -0000 (Tue, 28 Jan 2025) EndedAt: 2025-01-28 03:11:01 -0000 (Tue, 28 Jan 2025) EllapsedTime: 160.1 seconds RetCode: 0 Status: OK PackageFile: vidger_1.27.0.tar.gz PackageFileSize: 5.374 MiB