Package: vidger Version: 1.27.0 Command: /home/biocbuild/R/R/bin/R CMD check --install=check:vidger.install-out.txt --library=/home/biocbuild/R/R/site-library --no-vignettes --timings vidger_1.27.0.tar.gz StartedAt: 2025-01-27 13:51:50 -0000 (Mon, 27 Jan 2025) EndedAt: 2025-01-27 13:57:50 -0000 (Mon, 27 Jan 2025) EllapsedTime: 359.6 seconds RetCode: 0 Status: OK CheckDir: vidger.Rcheck Warnings: 0