Package: vidger Version: 1.27.0 Command: /home/biocbuild/R/R/bin/R CMD INSTALL vidger StartedAt: 2025-01-29 20:07:43 -0000 (Wed, 29 Jan 2025) EndedAt: 2025-01-29 20:08:31 -0000 (Wed, 29 Jan 2025) EllapsedTime: 48.5 seconds RetCode: 0 Status: OK