Package: vidger Version: 1.27.0 Command: /Library/Frameworks/R.framework/Resources/bin/R CMD build --keep-empty-dirs --no-resave-data vidger StartedAt: 2025-02-05 18:40:41 -0500 (Wed, 05 Feb 2025) EndedAt: 2025-02-05 18:42:41 -0500 (Wed, 05 Feb 2025) EllapsedTime: 119.9 seconds RetCode: 0 Status: OK PackageFile: vidger_1.27.0.tar.gz PackageFileSize: 8.697 MiB