Package: vidger Version: 1.27.0 Command: /Library/Frameworks/R.framework/Resources/bin/R CMD check --install=check:vidger.install-out.txt --library=/Library/Frameworks/R.framework/Resources/library --no-vignettes --timings vidger_1.27.0.tar.gz StartedAt: 2025-02-05 23:57:36 -0500 (Wed, 05 Feb 2025) EndedAt: 2025-02-06 00:01:57 -0500 (Thu, 06 Feb 2025) EllapsedTime: 260.5 seconds RetCode: 0 Status: OK CheckDir: vidger.Rcheck Warnings: 0