Package: vidger Version: 1.27.0 Command: /home/biocbuild/bbs-3.21-bioc/R/bin/R CMD build --keep-empty-dirs --no-resave-data vidger StartedAt: 2025-02-05 19:43:33 -0500 (Wed, 05 Feb 2025) EndedAt: 2025-02-05 19:45:14 -0500 (Wed, 05 Feb 2025) EllapsedTime: 101.1 seconds RetCode: 0 Status: OK PackageFile: vidger_1.27.0.tar.gz PackageFileSize: 7.854 MiB