Package: vidger Version: 1.27.0 Command: /home/biocbuild/bbs-3.21-bioc/R/bin/R CMD INSTALL vidger StartedAt: 2025-02-05 15:20:36 -0500 (Wed, 05 Feb 2025) EndedAt: 2025-02-05 15:21:09 -0500 (Wed, 05 Feb 2025) EllapsedTime: 33.2 seconds RetCode: 0 Status: OK