Package: vidger Version: 1.27.0 Command: chmod a+r vidger -R && E:\biocbuild\bbs-3.21-bioc\R\bin\R.exe CMD build --keep-empty-dirs --no-resave-data vidger StartedAt: 2025-02-04 22:18:05 -0500 (Tue, 04 Feb 2025) EndedAt: 2025-02-04 22:20:36 -0500 (Tue, 04 Feb 2025) EllapsedTime: 151.2 seconds RetCode: 0 Status: OK PackageFile: vidger_1.27.0.tar.gz PackageFileSize: 5.235 MiB