Package: vidger Version: 1.27.0 Command: E:\biocbuild\bbs-3.21-bioc\R\bin\R.exe CMD check --no-multiarch --install=check:vidger.install-out.txt --library=E:\biocbuild\bbs-3.21-bioc\R\library --no-vignettes --timings vidger_1.27.0.tar.gz StartedAt: 2025-02-05 06:54:07 -0500 (Wed, 05 Feb 2025) EndedAt: 2025-02-05 06:58:59 -0500 (Wed, 05 Feb 2025) EllapsedTime: 292.3 seconds RetCode: 0 Status: OK CheckDir: vidger.Rcheck Warnings: 0