Package: vidger Version: 1.27.0 Command: E:\biocbuild\bbs-3.21-bioc\R\bin\R.exe CMD INSTALL vidger StartedAt: 2025-02-04 15:50:05 -0500 (Tue, 04 Feb 2025) EndedAt: 2025-02-04 15:50:49 -0500 (Tue, 04 Feb 2025) EllapsedTime: 44.3 seconds RetCode: 0 Status: OK