Package: visiumStitched Version: 0.99.15 Command: rm -rf visiumStitched.buildbin-libdir && mkdir visiumStitched.buildbin-libdir && /Users/biocbuild/BBS/utils/build-universal.sh visiumStitched_0.99.15.tar.gz /Library/Frameworks/R.framework/Resources/bin/R visiumStitched.buildbin-libdir StartedAt: 2025-02-12 22:39:54 -0500 (Wed, 12 Feb 2025) EndedAt: 2025-02-12 22:40:16 -0500 (Wed, 12 Feb 2025) EllapsedTime: 22.5 seconds RetCode: 0 Status: OK PackageFile: visiumStitched_0.99.15.tgz PackageFileSize: 4.635 MiB