Package: visiumStitched Version: 0.99.15 Command: /Library/Frameworks/R.framework/Resources/bin/R CMD build --keep-empty-dirs --no-resave-data visiumStitched StartedAt: 2025-02-12 17:54:10 -0500 (Wed, 12 Feb 2025) EndedAt: 2025-02-12 17:56:19 -0500 (Wed, 12 Feb 2025) EllapsedTime: 129.4 seconds RetCode: 0 Status: OK PackageFile: visiumStitched_0.99.15.tar.gz PackageFileSize: 4.576 MiB